BEGIN:VCALENDAR
VERSION:2.0
PRODID:-//Kreatív Kávé
CALSCALE:GREGORIAN
METHOD:PUBLISH
X-WR-CALNAME:Kreatív Kávé
X-ORIGINAL-URL:https://kreativkave.hu/termek/uromi-program/frida-cicaja-akrilfestek-urom/
X-WR-CALDESC:Frida cicája &#8211; akrilfesték, Üröm
BEGIN:VEVENT
DTSTART:20250412T100000
DTEND:20250412T140000
SUMMARY:Frida cicája &#8211; akrilfesték, Üröm
DESCRIPTION:Fessünk meg együtt Frida színes, virágos cicáját akrilfestékkel, díszítsd saját színvilágot szerint! Tarts velünk, alkossuk meg együtt Ürömön!
URL:https://kreativkave.hu/termek/uromi-program/frida-cicaja-akrilfestek-urom/
LOCATION:Kreatív Kávé - Üröm  2096 Üröm, Lobogó u. 2/C.
END:VEVENT
END:VCALENDAR
