BEGIN:VCALENDAR
VERSION:2.0
PRODID:-//Kreatív Kávé
CALSCALE:GREGORIAN
METHOD:PUBLISH
X-WR-CALNAME:Kreatív Kávé
X-ORIGINAL-URL:https://kreativkave.hu/termek/balatoni-program/alkototabor-2025-nyar-badacsony-ii-tes-turnus-foglalo/
X-WR-CALDESC:Alkotótábor 2025 nyár: Badacsony II-tes turnus (helyfoglalási díj)
BEGIN:VEVENT
DTSTART:20250724T123000
DTEND:20250727T120000
SUMMARY:Alkotótábor 2025 nyár: Badacsony II-tes turnus (helyfoglalási díj)
DESCRIPTION:Alkotótábor a Balatonnál! Frissítő és feltöltő kalandok, sok vidámság, alkotás és kikapcsolódás vár júliusi festőtáborunkban, Badacsonyban! Tarts velünk!
URL:https://kreativkave.hu/termek/balatoni-program/alkototabor-2025-nyar-badacsony-ii-tes-turnus-foglalo/
LOCATION:Badacsony
END:VEVENT
END:VCALENDAR
