BEGIN:VCALENDAR
VERSION:2.0
PRODID:-//Kreatív Kávé
CALSCALE:GREGORIAN
METHOD:PUBLISH
X-WR-CALNAME:Kreatív Kávé
X-ORIGINAL-URL:https://kreativkave.hu/termek/szegedi-program/orchidea-akrilfestes-szeged/
X-WR-CALDESC:Orchidea &#8211; akrilfestés, Szeged
BEGIN:VEVENT
DTSTART:20250208T150000
DTEND:20250208T180000
SUMMARY:Orchidea &#8211; akrilfestés, Szeged
DESCRIPTION:Alkossunk együtt orchidea virágokat szegedi festőfoglalkozásunkon! Akrilfesték garantálja a tartósságot: nem hervad el. Színezheted saját ötleteid szerint.
URL:https://kreativkave.hu/termek/szegedi-program/orchidea-akrilfestes-szeged/
LOCATION:AASZC Fodor József Élelmiszeripari Technikum és Szakképző Iskola 6725 Szeged Szabadkai út 3.
END:VEVENT
END:VCALENDAR
