BEGIN:VCALENDAR
VERSION:2.0
PRODID:-//Kreatív Kávé
CALSCALE:GREGORIAN
METHOD:PUBLISH
X-WR-CALNAME:Kreatív Kávé
X-ORIGINAL-URL:https://kreativkave.hu/termek/uromi-program/manok-akrilfestes-pontozas-urom/
X-WR-CALDESC:Manók &#8211; akrilfestés, pontozás, Üröm
BEGIN:VEVENT
DTSTART:20241208T100000
DTEND:20241208T130000
SUMMARY:Manók &#8211; akrilfestés, pontozás, Üröm
DESCRIPTION:Vidám karácsonyi manók, ismerkedjünk meg az abo-art technikával és alkossunk együtt pontozással! A pontozás különlegesen mozgalmassá teszi alkotásunk!
URL:https://kreativkave.hu/termek/uromi-program/manok-akrilfestes-pontozas-urom/
LOCATION:Kreatív Kávé - Üröm  2096 Üröm, Lobogó u. 2/C.
END:VEVENT
END:VCALENDAR
