BEGIN:VCALENDAR
VERSION:2.0
PRODID:-//Kreatív Kávé
CALSCALE:GREGORIAN
METHOD:PUBLISH
X-WR-CALNAME:Kreatív Kávé
X-ORIGINAL-URL:https://kreativkave.hu/termek/uromi-program/mokus-akrilfestes-urom/
X-WR-CALDESC:Mókus &#8211; akrilfestés, Üröm
BEGIN:VEVENT
DTSTART:20241116T100000
DTEND:20241116T130000
SUMMARY:Mókus &#8211; akrilfestés, Üröm
DESCRIPTION:Egy kedves mókus havas fatörzsön. Alkossuk meg együtt következő ürömi festőfoglalkozásunkon, akrilfestékkel!
URL:https://kreativkave.hu/termek/uromi-program/mokus-akrilfestes-urom/
LOCATION:Kreatív Kávé - Üröm  2096 Üröm, Lobogó u. 2/C.
END:VEVENT
END:VCALENDAR
