BEGIN:VCALENDAR
VERSION:2.0
PRODID:-//Kreatív Kávé
CALSCALE:GREGORIAN
METHOD:PUBLISH
X-WR-CALNAME:Kreatív Kávé
X-ORIGINAL-URL:https://kreativkave.hu/termek/szegedi-program/van-gogh-csillagos-ej-olajfestes-szeged/
X-WR-CALDESC:Van Gogh: Csillagos éj &#8211; olajfestés, Szeged
BEGIN:VEVENT
DTSTART:20241201T100000
DTEND:20241201T140000
SUMMARY:Van Gogh: Csillagos éj &#8211; olajfestés, Szeged
DESCRIPTION:Utazzunk együtt ezen a napon Van Gogh titokzatos világába, csillagos éjre! Alkossuk meg együtt olajfestékkel szegedi festőfoglalkozásunkon!
URL:https://kreativkave.hu/termek/szegedi-program/van-gogh-csillagos-ej-olajfestes-szeged/
LOCATION:AASZC Fodor József Élelmiszeripari Technikum és Szakképző Iskola 6725 Szeged Szabadkai út 3.
END:VEVENT
END:VCALENDAR
