BEGIN:VCALENDAR
VERSION:2.0
PRODID:-//Kreatív Kávé
CALSCALE:GREGORIAN
METHOD:PUBLISH
X-WR-CALNAME:Kreatív Kávé
X-ORIGINAL-URL:https://kreativkave.hu/termek/szegedi-program/mystic-akrilfestes-szeged/
X-WR-CALDESC:Mystic- akrilfestés, Szeged
BEGIN:VEVENT
DTSTART:20241110T100000
DTEND:20241110T130000
SUMMARY:Mystic- akrilfestés, Szeged
DESCRIPTION:Női félportré, egy misztikus pillantás!  Akrilfestékkel dolgozunk, akvarelles hatást érünk el.  Alkossuk meg együtt festőprogramunkon!
URL:https://kreativkave.hu/termek/szegedi-program/mystic-akrilfestes-szeged/
LOCATION:AASZC Fodor József Élelmiszeripari Technikum és Szakképző Iskola 6725 Szeged Szabadkai út 3.
END:VEVENT
END:VCALENDAR
