BEGIN:VCALENDAR
VERSION:2.0
PRODID:-//Kreatív Kávé
CALSCALE:GREGORIAN
METHOD:PUBLISH
X-WR-CALNAME:Kreatív Kávé
X-ORIGINAL-URL:https://kreativkave.hu/termek/uromi-program/alkototabor-2024-urom-szerda-mozaik/
X-WR-CALDESC:Alkotótábor 2024 Üröm, szerdai napijegy: Mozaikozás
BEGIN:VEVENT
DTSTART:20240626T090000
DTEND:20240626T170000
SUMMARY:Alkotótábor 2024 Üröm, szerdai napijegy: Mozaikozás
DESCRIPTION:Alkossunk együtt mozaikképet! Ismerd meg ezt az ókorban is használatos technikát, készíts használati tárgyakat segítségével!
URL:https://kreativkave.hu/termek/uromi-program/alkototabor-2024-urom-szerda-mozaik/
LOCATION:Kreatív Kávé - Üröm  2096 Üröm, Lobogó u. 2/C.
END:VEVENT
END:VCALENDAR
