BEGIN:VCALENDAR
VERSION:2.0
PRODID:-//Kreatív Kávé
CALSCALE:GREGORIAN
METHOD:PUBLISH
X-WR-CALNAME:Kreatív Kávé
X-ORIGINAL-URL:https://kreativkave.hu/termek/uromi-program/alkototabor-2024-urom-vasarnapi-napijegy-csonak/
X-WR-CALDESC:Alkotótábor 2024 Üröm, vasárnapi napijegy: Csónak
BEGIN:VEVENT
DTSTART:20240623T090000
DTEND:20240623T170000
SUMMARY:Alkotótábor 2024 Üröm, vasárnapi napijegy: Csónak
DESCRIPTION:Játszunk a kékekkel, barnákkal, hogy ezt a nyugalmat sugárzó hangulatot megalkossuk: tengerpartot, hullámokat, csónakot.
URL:https://kreativkave.hu/termek/uromi-program/alkototabor-2024-urom-vasarnapi-napijegy-csonak/
LOCATION:Kreatív Kávé - Üröm  2096 Üröm, Lobogó u. 2/C.
END:VEVENT
END:VCALENDAR
