BEGIN:VCALENDAR
VERSION:2.0
PRODID:-//Kreatív Kávé
CALSCALE:GREGORIAN
METHOD:PUBLISH
X-WR-CALNAME:Kreatív Kávé
X-ORIGINAL-URL:https://kreativkave.hu/termek/szegedi-program/alkototabor-2024-algyo-szombati-napijegy-tacsi-napraforgokkal/
X-WR-CALDESC:Alkotótábor 2024 Algyő, szombati napijegy: Tacsi napraforgókkal
BEGIN:VEVENT
DTSTART:20240706T100000
DTEND:20240706T180000
SUMMARY:Alkotótábor 2024 Algyő, szombati napijegy: Tacsi napraforgókkal
DESCRIPTION:Hét napos alkotótáborunk hatodik, szombati napján olajfestékkel alkotunk Van Gogh inspirálta napraforgómezőt és egy tacsi kutyust.
URL:https://kreativkave.hu/termek/szegedi-program/alkototabor-2024-algyo-szombati-napijegy-tacsi-napraforgokkal/
LOCATION:Algyői Tájház - 6750 Algyő, Kastélykert utca 42. 
END:VEVENT
END:VCALENDAR
