BEGIN:VCALENDAR
VERSION:2.0
PRODID:-//Kreatív Kávé
CALSCALE:GREGORIAN
METHOD:PUBLISH
X-WR-CALNAME:Kreatív Kávé
X-ORIGINAL-URL:https://kreativkave.hu/termek/balatoni-program/alkototabor-2024-nyar-badacsony-ii-tes-turnus-foglalo/
X-WR-CALDESC:Alkotótábor 2024 nyár: Badacsony II-tes turnus (foglaló)
BEGIN:VEVENT
DTSTART:20240725T130000
DTEND:20240728T120000
SUMMARY:Alkotótábor 2024 nyár: Badacsony II-tes turnus (foglaló)
DESCRIPTION:Balatoni nyár, frissítő és feltöltő kalandok, alkotás és kikapcsolódás vár júliusi festőtáborunkban, Badacsonyban! Tarts velünk!
URL:https://kreativkave.hu/termek/balatoni-program/alkototabor-2024-nyar-badacsony-ii-tes-turnus-foglalo/
LOCATION:Rozi Garden Vendégház Badacsony 8261 Badacsony Római út 246.
END:VEVENT
END:VCALENDAR
