BEGIN:VCALENDAR
VERSION:2.0
PRODID:-//Kreatív Kávé
CALSCALE:GREGORIAN
METHOD:PUBLISH
X-WR-CALNAME:Kreatív Kávé
X-ORIGINAL-URL:https://kreativkave.hu/termek/alkototaborok/alkototabor-2024-osz-bazakerettye-foglalo/
X-WR-CALDESC:Alkotótábor 2024 ősz: Bázakerettye (foglaló)
BEGIN:VEVENT
DTSTART:20241010T100000
DTEND:20241013T120000
SUMMARY:Alkotótábor 2024 ősz: Bázakerettye (foglaló)
DESCRIPTION:Őszi színek, varázslatos környezet, gasztronómiai élmények és sok-sok alkotás vár Bázakerettyén, októberi festőtáborunkban!
URL:https://kreativkave.hu/termek/alkototaborok/alkototabor-2024-osz-bazakerettye-foglalo/
LOCATION:Bázakerettye
END:VEVENT
END:VCALENDAR
