BEGIN:VCALENDAR
VERSION:2.0
PRODID:-//Kreatív Kávé
CALSCALE:GREGORIAN
METHOD:PUBLISH
X-WR-CALNAME:Kreatív Kávé
X-ORIGINAL-URL:https://kreativkave.hu/termek/algyoi-alkototabor/alkototabor-2023-algyo-vasarnapi-napijegy-portugalia/
X-WR-CALDESC:ALKOTÓTÁBOR 2023 ALGYŐ – vasárnapi napijegy: Portugália
BEGIN:VEVENT
DTSTART:20230709T090000
DTEND:20230709T170000
SUMMARY:ALKOTÓTÁBOR 2023 ALGYŐ – vasárnapi napijegy: Portugália
DESCRIPTION:Tarts velünk algyői alkotótáborunkban, vasárnapi témánk kapcsán alkossuk meg együtt a mesés portugál Algarve látképét akrilfestékkel!
URL:https://kreativkave.hu/termek/algyoi-alkototabor/alkototabor-2023-algyo-vasarnapi-napijegy-portugalia/
LOCATION:Algyői Tájház - 6750 Algyő, Kastélykert utca 42. 
END:VEVENT
END:VCALENDAR
