BEGIN:VCALENDAR
VERSION:2.0
PRODID:-//Kreatív Kávé
CALSCALE:GREGORIAN
METHOD:PUBLISH
X-WR-CALNAME:Kreatív Kávé
X-ORIGINAL-URL:https://kreativkave.hu/termek/uromi-program/alkototabor-2023-urom-vasarnapi-napijegy-portugalia/
X-WR-CALDESC:ALKOTÓTÁBOR 2023 ÜRÖM – vasárnapi napijegy: Portugália
BEGIN:VEVENT
DTSTART:20230625T090000
DTEND:20230625T170000
SUMMARY:ALKOTÓTÁBOR 2023 ÜRÖM – vasárnapi napijegy: Portugália
DESCRIPTION:Tarts velünk ürömi alkotótáborunkban, vasárnapi témánk kapcsán alkossuk meg együtt a mesés portugál Algarve látképét akrilfestékkel!
URL:https://kreativkave.hu/termek/uromi-program/alkototabor-2023-urom-vasarnapi-napijegy-portugalia/
LOCATION:Kreatív Kávé - Üröm  2096 Üröm, Lobogó u. 2/C.
END:VEVENT
END:VCALENDAR
