BEGIN:VCALENDAR
VERSION:2.0
PRODID:-//Kreatív Kávé
CALSCALE:GREGORIAN
METHOD:PUBLISH
X-WR-CALNAME:Kreatív Kávé
X-ORIGINAL-URL:https://kreativkave.hu/termek/algyoi-alkototabor/alkototabor-2023-algyo-hetfoi-napijegy-monic/
X-WR-CALDESC:ALKOTÓTÁBOR 2023 ALGYŐ – hétfői napijegy: Monic
BEGIN:VEVENT
DTSTART:20230703T091000
DTEND:20230703T170000
SUMMARY:ALKOTÓTÁBOR 2023 ALGYŐ – hétfői napijegy: Monic
DESCRIPTION:Tarts velünk algyői alkotótáborunkban, alkossunk Klimt stílusában aranyozós médiumokkal hétfői témánk kapcsán! Kezdőként is jelentkezhetsz!
URL:https://kreativkave.hu/termek/algyoi-alkototabor/alkototabor-2023-algyo-hetfoi-napijegy-monic/
LOCATION:Algyői Tájház - 6750 Algyő, Kastélykert utca 42. 
END:VEVENT
END:VCALENDAR
