BEGIN:VCALENDAR
VERSION:2.0
PRODID:-//Kreatív Kávé
CALSCALE:GREGORIAN
METHOD:PUBLISH
X-WR-CALNAME:Kreatív Kávé
X-ORIGINAL-URL:https://kreativkave.hu/termek/balatoni-program/alkototabor-2023-badacsony-ii-tes-turnus/
X-WR-CALDESC:*Teltház* Alkotótábor 2023. Badacsony II-tes turnus
BEGIN:VEVENT
DTSTART:20230803T120000
DTEND:20230806T120000
SUMMARY:*Teltház* Alkotótábor 2023. Badacsony II-tes turnus
DESCRIPTION:Balatoni festőtémák, nyári hangulat, igazi relax és feltöltődés Badacsonyi Alkotótáborunkban! Támogató alkotóközösségben, vidám napokkal várunk!
URL:https://kreativkave.hu/termek/balatoni-program/alkototabor-2023-badacsony-ii-tes-turnus/
LOCATION:Rozi Panzió 8261 Badacsony Római út 246.
END:VEVENT
END:VCALENDAR
