BEGIN:VCALENDAR
VERSION:2.0
PRODID:-//Kreatív Kávé
CALSCALE:GREGORIAN
METHOD:PUBLISH
X-WR-CALNAME:Kreatív Kávé
X-ORIGINAL-URL:https://kreativkave.hu/termek/szegedi-program/kreativ-kave-szegedi-akrilfestes-aranyozas-klimt-macskaja/
X-WR-CALDESC:Teltház &#8211; Kreatív Kávé szegedi akrilfestés, aranyozás: Klimt macskája
BEGIN:VEVENT
DTSTART:20230311T100000
DTEND:20230311T140000
SUMMARY:Teltház &#8211; Kreatív Kávé szegedi akrilfestés, aranyozás: Klimt macskája
DESCRIPTION:Alkossuk meg együtt ezt a vidám és játékos cicusos festményt aranyozós médiumokkal Klimt stílusában!
URL:https://kreativkave.hu/termek/szegedi-program/kreativ-kave-szegedi-akrilfestes-aranyozas-klimt-macskaja/
LOCATION:AASZC Fodor József Élelmiszeripari Technikum és Szakképző Iskola 6725 Szeged Szabadkai út 3.
END:VEVENT
END:VCALENDAR
