BEGIN:VCALENDAR
VERSION:2.0
PRODID:-//Kreatív Kávé
CALSCALE:GREGORIAN
METHOD:PUBLISH
X-WR-CALNAME:Kreatív Kávé
X-ORIGINAL-URL:https://kreativkave.hu/termek/uromi-program/csokor-pipacs-akrilfestes-urom/
X-WR-CALDESC:Csokor pipacs &#8211; akrilfestés, Üröm
BEGIN:VEVENT
DTSTART:20220507T100000
DTEND:20220507T130000
SUMMARY:Csokor pipacs &#8211; akrilfestés, Üröm
DESCRIPTION:Egy csokor ragyogó pipacs: domború szirmokkal - alkossuk meg együtt!
URL:https://kreativkave.hu/termek/uromi-program/csokor-pipacs-akrilfestes-urom/
LOCATION:Kreatív Kávé - Üröm  2096 Üröm, Lobogó u. 2/C.
END:VEVENT
END:VCALENDAR
