BEGIN:VCALENDAR
VERSION:2.0
PRODID:-//Kreatív Kávé
CALSCALE:GREGORIAN
METHOD:PUBLISH
X-WR-CALNAME:Kreatív Kávé
X-ORIGINAL-URL:https://kreativkave.hu/termek/szegedi-program/alkototabor-2022-algyo-vasarnapi-napijegy-vitorlasok/
X-WR-CALDESC:ALKOTÓTÁBOR 2022 ALGYŐ – vasárnapi napijegy: Vitorlások
BEGIN:VEVENT
DTSTART:20220710T090000
DTEND:20220710T170000
SUMMARY:ALKOTÓTÁBOR 2022 ALGYŐ – vasárnapi napijegy: Vitorlások
DESCRIPTION:Hajózzunk a naplemente liláival, fehér vitorlákkal! Alkotásunk olajfestékkel, ecsettel és festőkéssel dolgozzuk ki Algyői Alkotótáborunkban.
URL:https://kreativkave.hu/termek/szegedi-program/alkototabor-2022-algyo-vasarnapi-napijegy-vitorlasok/
LOCATION:Algyői Tájház - 6750 Algyő, Kastélykert utca 42. 
END:VEVENT
END:VCALENDAR
