BEGIN:VCALENDAR
VERSION:2.0
PRODID:-//Kreatív Kávé
CALSCALE:GREGORIAN
METHOD:PUBLISH
X-WR-CALNAME:Kreatív Kávé
X-ORIGINAL-URL:https://kreativkave.hu/termek/uromi-program/alkototabor-2022-urom-hetfoi-napijegy-klimt-emilie/
X-WR-CALDESC:ALKOTÓTÁBOR 2022 ÜRÖM – hétfői napijegy: Klimt Emilie
BEGIN:VEVENT
DTSTART:20220620T090000
DTEND:20220620T170000
SUMMARY:ALKOTÓTÁBOR 2022 ÜRÖM – hétfői napijegy: Klimt Emilie
DESCRIPTION:Utazzunk együtt alkotásunk kapcsán Klimt és a szecesszió világába, arannyal, ezüsttel. Ragyogóan!
URL:https://kreativkave.hu/termek/uromi-program/alkototabor-2022-urom-hetfoi-napijegy-klimt-emilie/
LOCATION:Kreatív Kávé - Üröm  2096 Üröm, Lobogó u. 2/C.
END:VEVENT
END:VCALENDAR
