BEGIN:VCALENDAR
VERSION:2.0
PRODID:-//Kreatív Kávé
CALSCALE:GREGORIAN
METHOD:PUBLISH
X-WR-CALNAME:Kreatív Kávé
X-ORIGINAL-URL:https://kreativkave.hu/termek/balatoni-program/alkototabor-2022-badacsony-2-turnus/
X-WR-CALDESC:Alkotótábor 2022 Badacsony &#8211; 2. turnus
BEGIN:VEVENT
DTSTART:20220728T130000
DTEND:20220731T000000
SUMMARY:Alkotótábor 2022 Badacsony &#8211; 2. turnus
DESCRIPTION:Alkossunk együtt a Balaton partján is!
URL:https://kreativkave.hu/termek/balatoni-program/alkototabor-2022-badacsony-2-turnus/
LOCATION:Rozi Panzió 8261 Badacsony Római út 246.
END:VEVENT
END:VCALENDAR
