BEGIN:VCALENDAR
VERSION:2.0
PRODID:-//Kreatív Kávé
CALSCALE:GREGORIAN
METHOD:PUBLISH
X-WR-CALNAME:Kreatív Kávé
X-ORIGINAL-URL:https://kreativkave.hu/termek/uromi-program/kreativ-kave-alkototabor-2022-urom-heti-berlet/
X-WR-CALDESC:Kreatív Kávé Alkotótábor 2022 Üröm &#8211; heti bérlet
BEGIN:VEVENT
DTSTART:20220620T090000
DTEND:20220626T170000
SUMMARY:Kreatív Kávé Alkotótábor 2022 Üröm &#8211; heti bérlet
DESCRIPTION:Hét nap, ami a kikapcsolódásról, kreativitásról, alkotói energiáid felszabadításáról, különböző technikákkal és anyagokkal való ismerkedésről, jó csapatról, vid<span class="text_exposed_show">ám hangulatról, a közösségi alkotás élményéről fog szólni Ürömön! Légy Te is részese! Jelentkezz Alkotótáborunkba!</span>
URL:https://kreativkave.hu/termek/uromi-program/kreativ-kave-alkototabor-2022-urom-heti-berlet/
LOCATION:Kreatív Kávé - Üröm  2096 Üröm, Lobogó u. 2/C.
END:VEVENT
END:VCALENDAR
