BEGIN:VCALENDAR
VERSION:2.0
PRODID:-//Kreatív Kávé
CALSCALE:GREGORIAN
METHOD:PUBLISH
X-WR-CALNAME:Kreatív Kávé
X-ORIGINAL-URL:https://kreativkave.hu/termek/uromi-program/tihanyi-latkep-olajfestes-urom/
X-WR-CALDESC:Tihanyi látkép &#8211; olajfestés, Üröm
BEGIN:VEVENT
DTSTART:20211016T150000
DTEND:20211016T190000
SUMMARY:Tihanyi látkép &#8211; olajfestés, Üröm
DESCRIPTION:Örökítsük meg ezt a nyári, balatoni hangulatot akrilfestményen a Kreatív Kávé ürömi olajfestős programján!
URL:https://kreativkave.hu/termek/uromi-program/tihanyi-latkep-olajfestes-urom/
LOCATION:Kreatív Kávé - Üröm  2096 Üröm, Lobogó u. 2/C.
END:VEVENT
END:VCALENDAR
